BEGIN:VCALENDAR
VERSION:2.0
PRODID:-//Ansen - ECPv6.15.20//NONSGML v1.0//EN
CALSCALE:GREGORIAN
METHOD:PUBLISH
X-WR-CALNAME:Ansen
X-ORIGINAL-URL:https://ansen.eu
X-WR-CALDESC:Evenementen voor Ansen
REFRESH-INTERVAL;VALUE=DURATION:PT1H
X-Robots-Tag:noindex
X-PUBLISHED-TTL:PT1H
BEGIN:VTIMEZONE
TZID:Europe/Amsterdam
BEGIN:DAYLIGHT
TZOFFSETFROM:+0100
TZOFFSETTO:+0200
TZNAME:CEST
DTSTART:20250330T010000
END:DAYLIGHT
BEGIN:STANDARD
TZOFFSETFROM:+0200
TZOFFSETTO:+0100
TZNAME:CET
DTSTART:20251026T010000
END:STANDARD
BEGIN:DAYLIGHT
TZOFFSETFROM:+0100
TZOFFSETTO:+0200
TZNAME:CEST
DTSTART:20260329T010000
END:DAYLIGHT
BEGIN:STANDARD
TZOFFSETFROM:+0200
TZOFFSETTO:+0100
TZNAME:CET
DTSTART:20261025T010000
END:STANDARD
BEGIN:DAYLIGHT
TZOFFSETFROM:+0100
TZOFFSETTO:+0200
TZNAME:CEST
DTSTART:20270328T010000
END:DAYLIGHT
BEGIN:STANDARD
TZOFFSETFROM:+0200
TZOFFSETTO:+0100
TZNAME:CET
DTSTART:20271031T010000
END:STANDARD
END:VTIMEZONE
BEGIN:VEVENT
DTSTART;TZID=Europe/Amsterdam:20260423T133000
DTEND;TZID=Europe/Amsterdam:20260423T170000
DTSTAMP:20260423T115522
CREATED:20250710T092705Z
LAST-MODIFIED:20250710T092705Z
UID:12375-1776951000-1776963600@ansen.eu
SUMMARY:Biljarten
DESCRIPTION:VZ
URL:https://ansen.eu/event/biljarten-109/
LOCATION:Bastogne VZ
END:VEVENT
BEGIN:VEVENT
DTSTART;TZID=Europe/Amsterdam:20260423T190000
DTEND;TZID=Europe/Amsterdam:20260423T220000
DTSTAMP:20260423T115522
CREATED:20260317T155214Z
LAST-MODIFIED:20260317T155214Z
UID:13584-1776970800-1776981600@ansen.eu
SUMMARY:Jeu de boules
DESCRIPTION:VZ en Buiten
URL:https://ansen.eu/event/jeu-de-boules-2/
LOCATION:Bastogne Buiten
END:VEVENT
BEGIN:VEVENT
DTSTART;TZID=Europe/Amsterdam:20260423T200000
DTEND;TZID=Europe/Amsterdam:20260423T220000
DTSTAMP:20260423T115522
CREATED:20260109T102855Z
LAST-MODIFIED:20260109T102855Z
UID:12885-1776974400-1776981600@ansen.eu
SUMMARY:Trianthella Assen
DESCRIPTION:VZ
URL:https://ansen.eu/event/trianthella-assen-59/
LOCATION:Bastogne VZ
END:VEVENT
END:VCALENDAR